BEGIN:VCALENDAR
VERSION:2.0
PRODID:-//pretix//pretix.eu//
BEGIN:VTIMEZONE
TZID:Europe/Berlin
BEGIN:STANDARD
DTSTART:20001029T040000
RRULE:FREQ=YEARLY;BYDAY=-1SU;BYMONTH=10
TZNAME:CET
TZOFFSETFROM:+0200
TZOFFSETTO:+0100
END:STANDARD
BEGIN:DAYLIGHT
DTSTART:20000326T030000
RRULE:FREQ=YEARLY;BYDAY=-1SU;BYMONTH=3
TZNAME:CEST
TZOFFSETFROM:+0100
TZOFFSETTO:+0200
END:DAYLIGHT
END:VTIMEZONE
BEGIN:VEVENT
UID:pretix-ksbverden-tickets2026-4776723@ksbverden.vereinsticket.de
DTSTART;TZID=Europe/Berlin:20260221T160000
DTEND;TZID=Europe/Berlin:20260221T170000
DESCRIPTION:Tickets: https://ksbverden.vereinsticket.de/tickets2026/4776723
 /\nVeranstalter: Kreissportbund Verden
DTSTAMP:20260425T140433Z
LOCATION:Aller-Weser-Halle\, Karl-Luhmann-Weg\, 27283 Verden (Aller)
SUMMARY:MK Sportfreunde 2026
END:VEVENT
END:VCALENDAR
